BEGIN:VCALENDAR
VERSION:2.0
PRODID:-//Christian Yoga Association - ECPv6.15.20//NONSGML v1.0//EN
CALSCALE:GREGORIAN
METHOD:PUBLISH
X-ORIGINAL-URL:https://christianyogaassociation.org
X-WR-CALDESC:Events for Christian Yoga Association
REFRESH-INTERVAL;VALUE=DURATION:PT1H
X-Robots-Tag:noindex
X-PUBLISHED-TTL:PT1H
BEGIN:VTIMEZONE
TZID:UTC
BEGIN:STANDARD
TZOFFSETFROM:+0000
TZOFFSETTO:+0000
TZNAME:UTC
DTSTART:20170101T000000
END:STANDARD
END:VTIMEZONE
BEGIN:VEVENT
DTSTART;TZID=UTC:20240501T080000
DTEND;TZID=UTC:20240505T170000
DTSTAMP:20260423T201709
CREATED:20240227T020816Z
LAST-MODIFIED:20240227T020816Z
UID:10776-1714550400-1714928400@christianyogaassociation.org
SUMMARY:COME TO THE TABLE: A Luxury Wellness Retreat
DESCRIPTION:Puerto Vallarta\, Jalisco\, Mexico\n\n\n\n\n\n\n\n\n\n\n\n\nLori Washko\, R-CYAT \n\n\n\n\n\n\n\n\n\n\n\n\n\n\n\n\n\n\n\n\nCOME TO THE TABLE is designed to: \n1: Help you forget about DOING and focus on remembering who you really are. \n2: Create space to reconnect with your creator\, GOD. We are meant for so much more than just having a reservation in heaven. We were created for relationship and abiding with Him. \n3: Experience a little adventure and immersion in the Mexican culture \n4: Pamper and spoil you with a massage\, amazing food & excellent service. \n5: Offer a sense of community and new friendships with some awesome women. \n6: Release your stress and restore your body through Christ-centered yoga. \nMore Than a Vacation…Everything is planned for your perfect getaway from the moment you step out of the Puerto Vallarta airport; luxury accommodations\, excursions\, most of your meals\, a massage\, and Christ-Centered yoga are included with plenty of time to rest and reflect.
URL:https://christianyogaassociation.org/event/come-to-the-table-a-luxury-wellness-retreat/
LOCATION:Puerta Vallarta\, Jalisco\, Mexico
CATEGORIES:Christian Yoga Retreat
END:VEVENT
BEGIN:VEVENT
DTSTART;TZID=UTC:20240315T080000
DTEND;TZID=UTC:20240319T170000
DTSTAMP:20260423T201709
CREATED:20240227T164748Z
LAST-MODIFIED:20240227T170505Z
UID:10788-1710489600-1710867600@christianyogaassociation.org
SUMMARY:YOGAFAITH Miracle Immersion 200 hr YTT
DESCRIPTION:  \nIgnite Your Power \nStep Into Your Calling \nJoin Lead Trainers: Michelle Thielen [Founder of YogaFaith and Christian Yoga Assocaition] and Melissa Martin [YogaFaith of Madison] \nYoga Faith Immersions are so much more than delivering information\, they are about transformation\, body\, soul and spirit. \nImagine a world class training that provides you with the tools and resources to start your own faith based yoga business\, a heart filled with beautiful memories including connection\, prayer\, healing\, movement and a whole new group of divine friendships. \nThoughts of nervousness and uncertainty will give way to the confident fulfillment of a clear vision and an exciting future as a Yoga Faith Instructor. \n  \nGod placed something really special in you and it’s our goal to help transform your life into a beautiful masterpiece. \n  \nReserve your spot today  \nMonthly payments that fit your budget or pay in full and save.
URL:https://christianyogaassociation.org/event/yogafaith-miracle-immersion-200-hr-ytt/
LOCATION:Crowne Plaza Peachtree City\, 201 Aberdeen Parkway\, Peachtree City\, GA\, 30269
CATEGORIES:Christian Yoga Teacher Training
ORGANIZER;CN="YOGAFAITH":MAILTO:teachertraining@yogafaith.org
END:VEVENT
BEGIN:VEVENT
DTSTART;TZID=UTC:20240314T080000
DTEND;TZID=UTC:20240317T170000
DTSTAMP:20260423T201709
CREATED:20240227T192042Z
LAST-MODIFIED:20240227T192042Z
UID:10802-1710403200-1710694800@christianyogaassociation.org
SUMMARY:Women's Retreat
DESCRIPTION:Nashville\, Indiana \nMarch 14-17\, 2024
URL:https://christianyogaassociation.org/event/womens-retreat/
CATEGORIES:Christian Yoga Retreat
END:VEVENT
BEGIN:VEVENT
DTSTART;TZID=UTC:20240307T080000
DTEND;TZID=UTC:20240310T170000
DTSTAMP:20260423T201709
CREATED:20240227T015819Z
LAST-MODIFIED:20240227T020203Z
UID:10771-1709798400-1710090000@christianyogaassociation.org
SUMMARY:Rooted & Reaching Embodiment Certification
DESCRIPTION:Jody Thomae\, R-CYATH\, CYA-CEP\nMarch 7-10\, Ohio\, Private Studio\n\n\n\n\n\n\n\n\n\n\n\n\n\n\n\n\n\nRooted & Reaching Embodied Care Certificate Program is:  \n\na pioneering new Christ-centered program\, with inaugural training to be held March 7-10\, 2024\nbased in neurobiological understanding of trauma-informed somatic tools\nemphasis on creating sacred\, safe & brave spaces where healing can occur\nexplores a Biblical view of the body and embodied spiritual practices\ntaught by Embodied Spiritual Director Jody Thomae\, C-IAYT\, R-CYATH\n\n100 hours of Continued Education provided through CYA\, YA and IAYT. \nSee Jody Thomae\, CYA-CEP Page for Certification given and other details
URL:https://christianyogaassociation.org/event/rooted-reaching-embodiment-certification/
LOCATION:Pleasant Lake\, Pleasant Hill Lake\, OH
CATEGORIES:Christian Embodiment Certification
END:VEVENT
BEGIN:VEVENT
DTSTART;TZID=UTC:20240229T180000
DTEND;TZID=UTC:20240229T190000
DTSTAMP:20260423T201709
CREATED:20240227T014204Z
LAST-MODIFIED:20240227T014553Z
UID:10765-1709229600-1709233200@christianyogaassociation.org
SUMMARY:Mudras from a Christian Perspective with Michelle Thielen
DESCRIPTION:Shalom Spiritual Ctr. & Michelle Thielen\, R-CYATH \nThursday\, February 29 Virtual \n\n\n\n\n\n\n\n\n\n\n\n\n\n\n\n\n\n\n\n\n\n\n\n\n\nThursday\, February 29\, 6:00 pm-7:00 pm Central Time (4-5pm PST)\nvia Zoom \nArm\, finger\, and hand positions are symbolic gestures and prayer positions or are used in rituals within religions and many cultures. Much like a Mudra (a gesture or pose in Eastern Religions) can enhance a Yoga posture\, a prayer/prayer hands posture can enhance our communion and connection with the Lord. Join Michelle as she explores Mudras from a Christian perspective. Continued Education Credit Hours are available to those who attend. Michelle Thielen is the Founder of YogaFaith (https://yogafaith.org) and the Christian Yoga Association (https://christianyogaassociation.org). \nThe cost is $15; please register online at shalomretreats.org or by calling 563.582.3592 by Tuesday\, February 27. \n 
URL:https://christianyogaassociation.org/event/mudras-from-a-christian-perspective-with-michelle-thielen/
LOCATION:Shalom Retreat Center\, 1001 Davis Street\, Dubuque\, IA\, 52001
CATEGORIES:Christian Yoga Workshop
END:VEVENT
BEGIN:VEVENT
DTSTART;TZID=UTC:20180907T173000
DTEND;TZID=UTC:20180909T120000
DTSTAMP:20260423T201709
CREATED:20171114T162023Z
LAST-MODIFIED:20180613T035221Z
UID:1861-1536341400-1536494400@christianyogaassociation.org
SUMMARY:Art of Reflection
DESCRIPTION:Art of Reflection \nDid you know that the single most effective thing you can do to accelerate and deepen your spiritual growth is to reflect on the meaning of Scripture in your life? \nThe Art of Reflection\, a camp style retreat nestled in the beautiful Blue Ridge Mountains\, is a creative and spiritual experience designed to help us to reflect on who we are\, who God is making us\, how God is working in us and around us\, and how we can reflect God’s love more fully in our lives. \nThrough group discussions\, yoga & meditation\, Soul Care workshops\, worship\, Kirtan and prayer we will explore the meaning of REFLECTION and how that word might shape our lives. \nEARLY BIRD REGISTRATION is NOW open!\n$329 BEFORE JUNE 15TH \n\nReflection: Serious thought or consideration. Contemplation\, deliberation\, pondering\, meditation\, musing.\nDid you know that the single most effective thing you can do to accelerate and deepen your spiritual growth is to reflect on the meaning of Scripture in your life? \nThe Art of Reflection\, a camp style retreat nestled in the beautiful Blue Ridge Mountains\, is a creative and spiritual experience designed to help us to reflect on who we are\, who God is making us\, how God is working in us and around us\, and how we can reflect God’s love more fully in our lives. \nThrough group discussions\, yoga & meditation\, Soul Care workshops\, worship\, kirtan and prayer we will explore the meaning of REFLECTION and how that word might shape our lives. \nIncluded in the registration price: \nAccommodations for 2 nights\n5 locally sourced vegetarian meals\nJun (kombucha) tasting\nDaily yoga & meditation\nAll workshops & materials\nAccess to hiking and prayer walk trails \n(See retreat schedule in gallery below) \nYour Instructors: \nKelly McLellan\, MS E-RYT200 owner of Getting Still Studios \nHollie Lytle\, RYT200 owner of Lytle Photo and Bold Warrior retreats \nMeredith Allen\, RYT200 owner of Merry Heart Yoga \nDiane McFerrin\, owner of Nest Egg Studios \nSpace is limited\, so reserve your spot now. Upon receiving your registration from ticketleap\, we will send you an invoice along with more detailed information. Registration is not confirmed until we receive your payment in FULL. Payments can be made via PayPal or by check. \nRegister HERE
URL:https://christianyogaassociation.org/event/art-of-reflection/
LOCATION:The Main Lodge\, 170 Woodland Drive\, Swannanoa\, NC\, 28778\, United States
CATEGORIES:Event
ORGANIZER;CN="Getting Still":MAILTO:yogafaith@gettingstill.com
END:VEVENT
END:VCALENDAR